BEGIN:VCALENDAR
VERSION:2.0
PRODID:-//Wihan Quartet - ECPv6.15.20//NONSGML v1.0//EN
CALSCALE:GREGORIAN
METHOD:PUBLISH
X-WR-CALNAME:Wihan Quartet
X-ORIGINAL-URL:https://wihanquartet.co.uk
X-WR-CALDESC:Events for Wihan Quartet
REFRESH-INTERVAL;VALUE=DURATION:PT1H
X-Robots-Tag:noindex
X-PUBLISHED-TTL:PT1H
BEGIN:VTIMEZONE
TZID:Europe/London
BEGIN:DAYLIGHT
TZOFFSETFROM:+0000
TZOFFSETTO:+0100
TZNAME:BST
DTSTART:20240331T010000
END:DAYLIGHT
BEGIN:STANDARD
TZOFFSETFROM:+0100
TZOFFSETTO:+0000
TZNAME:GMT
DTSTART:20241027T010000
END:STANDARD
BEGIN:DAYLIGHT
TZOFFSETFROM:+0000
TZOFFSETTO:+0100
TZNAME:BST
DTSTART:20250330T010000
END:DAYLIGHT
BEGIN:STANDARD
TZOFFSETFROM:+0100
TZOFFSETTO:+0000
TZNAME:GMT
DTSTART:20251026T010000
END:STANDARD
BEGIN:DAYLIGHT
TZOFFSETFROM:+0000
TZOFFSETTO:+0100
TZNAME:BST
DTSTART:20260329T010000
END:DAYLIGHT
BEGIN:STANDARD
TZOFFSETFROM:+0100
TZOFFSETTO:+0000
TZNAME:GMT
DTSTART:20261025T010000
END:STANDARD
END:VTIMEZONE
BEGIN:VEVENT
DTSTART;TZID=Europe/London:20250807T193000
DTEND;TZID=Europe/London:20250807T193000
DTSTAMP:20260422T160025
CREATED:20250410T121245Z
LAST-MODIFIED:20250616T164223Z
UID:1341-1754595000-1754595000@wihanquartet.co.uk
SUMMARY:Ripon International Festival: Yorkshire
DESCRIPTION:Franz Schubert: Quartettsatz in C minor\, D. 703Franz Schubert: Quartet in D minor\, D. 810 – Death and the MaidenIntervalAntonin Dvořák: Quartet no. 12 in F major\, op. 96\, B. 179\, American
URL:https://wihanquartet.co.uk/event/ripon-international-festival-yorkshire/
LOCATION:St. John’s Church\, Sharow\, Ripon\, Yorkshire\, HG4 5BJ\, England
ATTACH;FMTTYPE=image/jpeg:https://wihanquartet.co.uk/wp-content/uploads/2024/06/Wihan_Quartet_Ref_09_Please_Credit_Petra_Hajska-SMed-1-ovxzrd.tmp_.jpg
END:VEVENT
END:VCALENDAR