BEGIN:VCALENDAR
VERSION:2.0
PRODID:-//Wihan Quartet - ECPv6.15.20//NONSGML v1.0//EN
CALSCALE:GREGORIAN
METHOD:PUBLISH
X-ORIGINAL-URL:https://wihanquartet.co.uk
X-WR-CALDESC:Events for Wihan Quartet
REFRESH-INTERVAL;VALUE=DURATION:PT1H
X-Robots-Tag:noindex
X-PUBLISHED-TTL:PT1H
BEGIN:VTIMEZONE
TZID:Europe/London
BEGIN:DAYLIGHT
TZOFFSETFROM:+0000
TZOFFSETTO:+0100
TZNAME:BST
DTSTART:20240331T010000
END:DAYLIGHT
BEGIN:STANDARD
TZOFFSETFROM:+0100
TZOFFSETTO:+0000
TZNAME:GMT
DTSTART:20241027T010000
END:STANDARD
BEGIN:DAYLIGHT
TZOFFSETFROM:+0000
TZOFFSETTO:+0100
TZNAME:BST
DTSTART:20250330T010000
END:DAYLIGHT
BEGIN:STANDARD
TZOFFSETFROM:+0100
TZOFFSETTO:+0000
TZNAME:GMT
DTSTART:20251026T010000
END:STANDARD
BEGIN:DAYLIGHT
TZOFFSETFROM:+0000
TZOFFSETTO:+0100
TZNAME:BST
DTSTART:20260329T010000
END:DAYLIGHT
BEGIN:STANDARD
TZOFFSETFROM:+0100
TZOFFSETTO:+0000
TZNAME:GMT
DTSTART:20261025T010000
END:STANDARD
END:VTIMEZONE
BEGIN:VEVENT
DTSTART;TZID=Europe/London:20251211T193000
DTEND;TZID=Europe/London:20251211T193000
DTSTAMP:20260421T081623
CREATED:20250112T014921Z
LAST-MODIFIED:20251211T202727Z
UID:1229-1765481400-1765481400@wihanquartet.co.uk
SUMMARY:Seaton Music: Devon
DESCRIPTION:Franz Joseph Haydn: Quartet in G major\, op. 54\, no. 1Fanny Mendelssohn: String Quartet no. 1 in E flat major\, op. 12IntervalFranz Schubert: Quartet in D minor\, D. 810 – Death and the Maiden
URL:https://wihanquartet.co.uk/event/seaton-music-devon/
LOCATION:St Andrews Church\, Colyton\, Market Place\, Devon\, EX24 6JS\, England
CATEGORIES:Wihan Quartet
ATTACH;FMTTYPE=image/jpeg:https://wihanquartet.co.uk/wp-content/uploads/2025/01/Wihan_Quartet_Ref_15_Please_Credit_Petra_Hajska_sm-a1wsFY.tmp_.jpg
END:VEVENT
END:VCALENDAR