BEGIN:VCALENDAR
VERSION:2.0
PRODID:-//Wihan Quartet - ECPv6.15.20//NONSGML v1.0//EN
CALSCALE:GREGORIAN
METHOD:PUBLISH
X-WR-CALNAME:Wihan Quartet
X-ORIGINAL-URL:https://wihanquartet.co.uk
X-WR-CALDESC:Events for Wihan Quartet
REFRESH-INTERVAL;VALUE=DURATION:PT1H
X-Robots-Tag:noindex
X-PUBLISHED-TTL:PT1H
BEGIN:VTIMEZONE
TZID:UTC
BEGIN:STANDARD
TZOFFSETFROM:+0000
TZOFFSETTO:+0000
TZNAME:UTC
DTSTART:20230101T000000
END:STANDARD
END:VTIMEZONE
BEGIN:VTIMEZONE
TZID:Europe/London
BEGIN:DAYLIGHT
TZOFFSETFROM:+0000
TZOFFSETTO:+0100
TZNAME:BST
DTSTART:20230326T010000
END:DAYLIGHT
BEGIN:STANDARD
TZOFFSETFROM:+0100
TZOFFSETTO:+0000
TZNAME:GMT
DTSTART:20231029T010000
END:STANDARD
BEGIN:DAYLIGHT
TZOFFSETFROM:+0000
TZOFFSETTO:+0100
TZNAME:BST
DTSTART:20240331T010000
END:DAYLIGHT
BEGIN:STANDARD
TZOFFSETFROM:+0100
TZOFFSETTO:+0000
TZNAME:GMT
DTSTART:20241027T010000
END:STANDARD
BEGIN:DAYLIGHT
TZOFFSETFROM:+0000
TZOFFSETTO:+0100
TZNAME:BST
DTSTART:20250330T010000
END:DAYLIGHT
BEGIN:STANDARD
TZOFFSETFROM:+0100
TZOFFSETTO:+0000
TZNAME:GMT
DTSTART:20251026T010000
END:STANDARD
END:VTIMEZONE
BEGIN:VEVENT
DTSTART;TZID=UTC:20240914T180000
DTEND;TZID=UTC:20240914T200000
DTSTAMP:20260421T082226
CREATED:20240905T114455Z
LAST-MODIFIED:20241005T224621Z
UID:981-1726336800-1726344000@wihanquartet.co.uk
SUMMARY:Společnost Bohuslava Martinů
DESCRIPTION:
URL:https://wihanquartet.co.uk/event/spolecnost-bohuslava-martinu/
END:VEVENT
BEGIN:VEVENT
DTSTART;TZID=Europe/London:20240823T200000
DTEND;TZID=Europe/London:20240823T200000
DTSTAMP:20260421T082226
CREATED:20240603T122745Z
LAST-MODIFIED:20240824T225304Z
UID:787-1724443200-1724443200@wihanquartet.co.uk
SUMMARY:Benslow Music: Hertfordshire
DESCRIPTION:Leos Janáček: String Quartet no. 1\, KreutzerBedřich Smetana: Quartet no. 2 in D minorIntervalAntonin Dvořák: Quartet no. 9 in D minor\, op. 34
URL:https://wihanquartet.co.uk/event/benslow-music-hertfordshire/
LOCATION:Peter Morrison Hall\, Benslow Music\, Hertfordshire\, SG4 9RB\, England
ATTACH;FMTTYPE=image/jpeg:https://wihanquartet.co.uk/wp-content/uploads/2024/06/Wihan_Quartet_Ref_01_Please_Credit_Petra_Hajska-SMed-1-YADEPz.tmp_.jpg
END:VEVENT
BEGIN:VEVENT
DTSTART;TZID=Europe/London:20240823T000000
DTEND;TZID=Europe/London:20240825T235959
DTSTAMP:20260421T082226
CREATED:20240726T060659Z
LAST-MODIFIED:20240905T114820Z
UID:916-1724371200-1724630399@wihanquartet.co.uk
SUMMARY:Benslow Music
DESCRIPTION:
URL:https://wihanquartet.co.uk/event/benslow-music/
LOCATION:Benslow Music Trust\, Benslow Lane\, Hitchin\, SG4 9RB\, England
ATTACH;FMTTYPE=image/jpeg:https://wihanquartet.co.uk/wp-content/uploads/2024/07/Wihan_Quartet_Ref_19_Please_Credit_Petra_Hajska_SMed-kXeuVm.tmp_.jpg
END:VEVENT
BEGIN:VEVENT
DTSTART;TZID=Europe/London:20240624T193000
DTEND;TZID=Europe/London:20240624T193000
DTSTAMP:20260421T082226
CREATED:20240603T122745Z
LAST-MODIFIED:20240905T114854Z
UID:784-1719257400-1719257400@wihanquartet.co.uk
SUMMARY:Wigmore Hall: London
DESCRIPTION:Bedřich Smetana: Quartet no. 2 in D minor\nAntonin Dvořák: Quartet no. 12 in F major\, op. 96\, B. 179\, American\nInterval\nLeos Janáček: String Quartet no. 2\, Intimate Letters
URL:https://wihanquartet.co.uk/event/wigmore-hall-london-2/
LOCATION:Wigmore Hall\, Wigmore Street\, London\, W1U 2BP\, England
ATTACH;FMTTYPE=image/jpeg:https://wihanquartet.co.uk/wp-content/uploads/2024/06/Wihan_Quartet_Ref_11_Please_Credit_Petra_Hajska-SMed-1-c4V8gE.tmp_.jpg
END:VEVENT
BEGIN:VEVENT
DTSTART;TZID=Europe/London:20240624T170000
DTEND;TZID=Europe/London:20240624T170000
DTSTAMP:20260421T082226
CREATED:20240603T122744Z
LAST-MODIFIED:20240624T040353Z
UID:782-1719248400-1719248400@wihanquartet.co.uk
SUMMARY:BBC Radio 3 “In Tune”: London
DESCRIPTION:The Wihan Quartet talk about their Wigmore Hall concerts and play live in the studio: \nSmetana Quartet no. 2 in D minor – 2nd movementSchubert Quartettsatz in C minor\, D. 703
URL:https://wihanquartet.co.uk/event/bbc-radio-3-in-tune-london/
LOCATION:BBC Broadcasting House\, Portland Place\, London\, W1A 1AA\, England
ATTACH;FMTTYPE=image/jpeg:https://wihanquartet.co.uk/wp-content/uploads/2024/06/Wihan_Quartet_Ref_05_Please_Credit_Petra_Hajska_Smed-KuiPZ4.tmp_.jpg
END:VEVENT
BEGIN:VEVENT
DTSTART;TZID=Europe/London:20240623T113000
DTEND;TZID=Europe/London:20240623T113000
DTSTAMP:20260421T082226
CREATED:20240603T122743Z
LAST-MODIFIED:20241005T194123Z
UID:778-1719142200-1719142200@wihanquartet.co.uk
SUMMARY:Wigmore Hall: London
DESCRIPTION:Franz Joseph Haydn: Quartet no. 62 in C major\, op. 76\, no. 3\, Hob.III:77\, EmperorFranz Joseph Haydn: Quartet no. 53 in D major\, op. 64\, no. 5\, Hob.III:63\, The Lark
URL:https://wihanquartet.co.uk/event/wigmore-hall-london/
LOCATION:Wigmore Hall\, Wigmore Street\, London\, W1U 2BP\, England
ATTACH;FMTTYPE=image/jpeg:https://wihanquartet.co.uk/wp-content/uploads/2024/06/Wihan_Quartet_Ref_09_Please_Credit_Petra_Hajska-SMed-1-ovxzrd.tmp_.jpg
END:VEVENT
BEGIN:VEVENT
DTSTART;TZID=Europe/London:20240615T150000
DTEND;TZID=Europe/London:20240615T150000
DTSTAMP:20260421T082226
CREATED:20240603T122742Z
LAST-MODIFIED:20240609T151444Z
UID:774-1718463600-1718463600@wihanquartet.co.uk
SUMMARY:Lauttasaaren Festival: Helsinki
DESCRIPTION:With:Samuel Niederhauser\, celloMackenzie Melemed\, piano \nFranz Schubert:  Arpeggione Sonata in A minor\, D. 821Ludwig van Beethoven: String quartet op. 18 no. 4 in c minorLeos Janáček: String Quartet no. 2\, Intimate Letters
URL:https://wihanquartet.co.uk/event/lauttasaaren-festival-helsinki-3/
LOCATION:Lauttasaari Church\, Myllykallionrinne 1\, Helsinki\, Finland
ATTACH;FMTTYPE=image/jpeg:https://wihanquartet.co.uk/wp-content/uploads/2024/06/Wihan_Quartet_Ref_17_Please_Credit_Petra_Hajska_Smed-MXeZjS.tmp_.jpg
END:VEVENT
BEGIN:VEVENT
DTSTART;TZID=Europe/London:20240614T120000
DTEND;TZID=Europe/London:20240614T120000
DTSTAMP:20260421T082226
CREATED:20240603T122742Z
LAST-MODIFIED:20240609T151444Z
UID:773-1718366400-1718366400@wihanquartet.co.uk
SUMMARY:Lauttasaaren Festival: Helsinki
DESCRIPTION:Author Sirpa Kähkönen and composer Aulis Sallinen discuss their work. \nAulis Sallinen: String Quartet no. 5\, op. 54 ‘Mosaic Fragments’
URL:https://wihanquartet.co.uk/event/lauttasaaren-festival-helsinki-2/
LOCATION:Helsinki Central Library Oodi\, Töölönlahdenkatu 4\, Helsinki\, 00100 Helsinki\, Finland
ATTACH;FMTTYPE=image/jpeg:https://wihanquartet.co.uk/wp-content/uploads/2024/06/Wihan_Quartet_Ref_11_Please_Credit_Petra_Hajska-SMed-1-c4V8gE.tmp_.jpg
END:VEVENT
BEGIN:VEVENT
DTSTART;TZID=Europe/London:20240613T183000
DTEND;TZID=Europe/London:20240613T183000
DTSTAMP:20260421T082226
CREATED:20240603T122741Z
LAST-MODIFIED:20240609T151444Z
UID:770-1718303400-1718303400@wihanquartet.co.uk
SUMMARY:Lauttasaaren Festival: Helsinki
DESCRIPTION:Franz Schubert: Quartettsatz in C minor\, D. 703Leos Janáček: String Quartet no. 1\, KreutzerIntervalAntonin Dvořák: Quartet no. 12 in F major\, op. 96\, B. 179\, American
URL:https://wihanquartet.co.uk/event/lauttasaaren-festival-helsinki/
LOCATION:Lauttasaari Church\, Myllykallionrinne 1\, Helsinki\, Finland
ATTACH;FMTTYPE=image/jpeg:https://wihanquartet.co.uk/wp-content/uploads/2024/06/Wihan_Quartet_Ref_11_Please_Credit_Petra_Hajska-SMed-1-c4V8gE.tmp_.jpg
END:VEVENT
END:VCALENDAR